BEGIN:VCALENDAR
VERSION:2.0
PRODID:-//EINFACH NORDISCH - ECPv6.15.20//NONSGML v1.0//EN
CALSCALE:GREGORIAN
METHOD:PUBLISH
X-ORIGINAL-URL:https://einfachnordisch.com
X-WR-CALDESC:Veranstaltungen für EINFACH NORDISCH
REFRESH-INTERVAL;VALUE=DURATION:PT1H
X-Robots-Tag:noindex
X-PUBLISHED-TTL:PT1H
BEGIN:VTIMEZONE
TZID:Europe/Berlin
BEGIN:DAYLIGHT
TZOFFSETFROM:+0100
TZOFFSETTO:+0200
TZNAME:CEST
DTSTART:20220327T010000
END:DAYLIGHT
BEGIN:STANDARD
TZOFFSETFROM:+0200
TZOFFSETTO:+0100
TZNAME:CET
DTSTART:20221030T010000
END:STANDARD
BEGIN:DAYLIGHT
TZOFFSETFROM:+0100
TZOFFSETTO:+0200
TZNAME:CEST
DTSTART:20230326T010000
END:DAYLIGHT
BEGIN:STANDARD
TZOFFSETFROM:+0200
TZOFFSETTO:+0100
TZNAME:CET
DTSTART:20231029T010000
END:STANDARD
BEGIN:DAYLIGHT
TZOFFSETFROM:+0100
TZOFFSETTO:+0200
TZNAME:CEST
DTSTART:20240331T010000
END:DAYLIGHT
BEGIN:STANDARD
TZOFFSETFROM:+0200
TZOFFSETTO:+0100
TZNAME:CET
DTSTART:20241027T010000
END:STANDARD
END:VTIMEZONE
BEGIN:VEVENT
DTSTART;TZID=Europe/Berlin:20231215T183000
DTEND;TZID=Europe/Berlin:20231215T203000
DTSTAMP:20260420T054345
CREATED:20231122T115942Z
LAST-MODIFIED:20231122T115942Z
UID:1333-1702665000-1702672200@einfachnordisch.com
SUMMARY:Lebendiger Adventskalender
DESCRIPTION:Vom Luciafest haben wir euch in den letzten Jahren schon einiges erzählt. Dieses Jahr wollen wir von einem weiteren nordischen Weihnachtsbrauch erzählen\, dem Julfest. \nDie diesjährigen Spenden gehen an die evangelische Stiftung Lichtenstern\, Haus Schelmenrain.
URL:https://einfachnordisch.com/event/lebendiger-adventskalender/
LOCATION:EINFACH NORDISCH (im Laden)\, Brettener Str. 7
ORGANIZER;CN="EINFACH NORDISCH":MAILTO:reginab@einfachnordisch.com
END:VEVENT
END:VCALENDAR